BEGIN:VCALENDAR
VERSION:2.0
PRODID:-//Outdoor SoCal - ECPv6.6.3//NONSGML v1.0//EN
CALSCALE:GREGORIAN
METHOD:PUBLISH
X-ORIGINAL-URL:https://www.outdoorsocal.com
X-WR-CALDESC:Events for Outdoor SoCal
REFRESH-INTERVAL;VALUE=DURATION:PT1H
X-Robots-Tag:noindex
X-PUBLISHED-TTL:PT1H
BEGIN:VTIMEZONE
TZID:America/Los_Angeles
BEGIN:DAYLIGHT
TZOFFSETFROM:-0800
TZOFFSETTO:-0700
TZNAME:PDT
DTSTART:20250309T100000
END:DAYLIGHT
BEGIN:STANDARD
TZOFFSETFROM:-0700
TZOFFSETTO:-0800
TZNAME:PST
DTSTART:20251102T090000
END:STANDARD
END:VTIMEZONE
BEGIN:VEVENT
DTSTART;TZID=America/Los_Angeles:20250125T000000
DTEND;TZID=America/Los_Angeles:20250126T000000
DTSTAMP:20260422T164510
CREATED:20241210T032828Z
LAST-MODIFIED:20241210T032828Z
UID:1511084-1737763200-1737849600@www.outdoorsocal.com
SUMMARY:Lake Perris Spartan Race
DESCRIPTION:The Lake Perris Spartan Race is set to take place at Lake Perris Recreational Area in Perris\, CA. This event is part of the Spartan Trifecta Weekend and features various race formats designed to challenge participants of different skill levels. \nThe event will include the following races: \n\nSpartan Sprint (5K): This is the shortest course with 20 obstacles. It serves as an introduction to the Spartan race world.\nSpartan Super (10K): A more challenging course with 25 obstacles\, set in rugged terrain and high-altitude.\nSpartan Beast (21K): This is a grueling 21K course with 30 obstacles\, designed to test both physical strength and mental toughness.\nSpartan Kids Race: Catered to children aged 4-13\, this race offers different distances based on age\, allowing young Spartans to experience the thrill of the race\,\n\nSpectator passes are available for those who wish to watch the event. Additionally\, the weekend offers a chance for participants to complete the Spartan Trifecta by finishing the Sprint\, Super\, and Beast races. \nThe Spartan Race is a series of obstacle races of varying distance and difficulty\, ranging from 3 miles to marathon distances. These races are known for their physically and mentally challenging obstacles\, which test a participant’s endurance\, strength\, and agility.
URL:https://www.outdoorsocal.com/event/lake-perris-spartan-race/
LOCATION:Lake Perris Recreation Area\, Lake Perris Drive\, Perris\, CA\, 92571\, United States
CATEGORIES:Obstacle Course Race
ATTACH;FMTTYPE=image/jpeg:https://www.outdoorsocal.com/wp-content/uploads/2024/12/lake-perris.jpg
END:VEVENT
END:VCALENDAR