BEGIN:VCALENDAR
VERSION:2.0
PRODID:-//Outdoor SoCal - ECPv6.6.3//NONSGML v1.0//EN
CALSCALE:GREGORIAN
METHOD:PUBLISH
X-WR-CALNAME:Outdoor SoCal
X-ORIGINAL-URL:https://www.outdoorsocal.com
X-WR-CALDESC:Events for Outdoor SoCal
REFRESH-INTERVAL;VALUE=DURATION:PT1H
X-Robots-Tag:noindex
X-PUBLISHED-TTL:PT1H
BEGIN:VTIMEZONE
TZID:America/Los_Angeles
BEGIN:DAYLIGHT
TZOFFSETFROM:-0800
TZOFFSETTO:-0700
TZNAME:PDT
DTSTART:20250309T100000
END:DAYLIGHT
BEGIN:STANDARD
TZOFFSETFROM:-0700
TZOFFSETTO:-0800
TZNAME:PST
DTSTART:20251102T090000
END:STANDARD
END:VTIMEZONE
BEGIN:VEVENT
DTSTART;VALUE=DATE:20250405
DTEND;VALUE=DATE:20250407
DTSTAMP:20260422T125308
CREATED:20241210T035458Z
LAST-MODIFIED:20241210T035512Z
UID:1511088-1743811200-1743983999@www.outdoorsocal.com
SUMMARY:Tough Mudder Los Angeles 2025
DESCRIPTION:Tough Mudder returns to Southern California in 2025\, bringing its rugged obstacle course challenge to Glen Helen Raceway. Nestled at the base of the San Bernardino Mountains\, this course offers scenic views\, intense elevation changes\, and over 20 epic obstacles designed to test your strength\, endurance\, and teamwork. \nRaces include: \n\nTough Mudder Classic: 15+ kilometers\, 20+ obstacles.\nTough Mudder 5K: 12+ obstacles.\nTough Mudder Infinity: Push your limits with multiple laps.\nSpectators: Join the action in Mudder Village.\n\nSpecial discounts are available for military and first responders\, and group packages offer savings for teams of 10 or more. \n\n\n\n\nAbout Tough Mudder\n\n\nTough Mudder events are endurance challenges that combine distance running with obstacle course elements\, designed to test participants’ physical strength\, mental resilience\, and collaborative spirit. Each course features a variety of obstacles\, including walls to climb\, mud pits to traverse\, and ice baths to endure\, all aimed at pushing individuals to their limits. \nUnlike traditional races\, Tough Mudder places a strong emphasis on teamwork. Participants are encouraged to help one another overcome obstacles\, fostering a sense of camaraderie rather than competition. Events range from 5K to 15K or more\, accommodating varying levels of fitness and experience. \nThese events also include spectator-friendly areas known as Mudder Villages\, where attendees can watch the action and enjoy food\, drinks\, and other activities.
URL:https://www.outdoorsocal.com/event/tough-mudder-los-angeles/
LOCATION:Glen Helen Raceway\, San Bernardino\, CA\, United States
CATEGORIES:Obstacle Course Race
ATTACH;FMTTYPE=image/jpeg:https://www.outdoorsocal.com/wp-content/uploads/2024/12/tough-mudder-la.jpg
END:VEVENT
END:VCALENDAR