BEGIN:VCALENDAR
VERSION:2.0
PRODID:-//Outdoor SoCal - ECPv6.6.3//NONSGML v1.0//EN
CALSCALE:GREGORIAN
METHOD:PUBLISH
X-ORIGINAL-URL:https://www.outdoorsocal.com
X-WR-CALDESC:Events for Outdoor SoCal
REFRESH-INTERVAL;VALUE=DURATION:PT1H
X-Robots-Tag:noindex
X-PUBLISHED-TTL:PT1H
BEGIN:VTIMEZONE
TZID:America/Los_Angeles
BEGIN:DAYLIGHT
TZOFFSETFROM:-0800
TZOFFSETTO:-0700
TZNAME:PDT
DTSTART:20240310T100000
END:DAYLIGHT
BEGIN:STANDARD
TZOFFSETFROM:-0700
TZOFFSETTO:-0800
TZNAME:PST
DTSTART:20241103T090000
END:STANDARD
END:VTIMEZONE
BEGIN:VEVENT
DTSTART;VALUE=DATE:20240906
DTEND;VALUE=DATE:20240915
DTSTAMP:20260423T165015
CREATED:20240829T001216Z
LAST-MODIFIED:20240829T001216Z
UID:1508250-1725580800-1726358399@www.outdoorsocal.com
SUMMARY:World Surf League Championships
DESCRIPTION:The World Surf League Championships is the annual pro surf tour finale and in 2023 will be held at Lower Trestles\, the famous Southern California surf break in San Clemente. \nThe World Surf League\, which organizes the event\, is the governing body for professional surfers. The championship series are held at iconic surf locations worldwide\, such as Pipeline in Hawaii\, Teahupo’o in Tahiti\, and Jeffreys Bay in South Africa. Surfers accumulate points based on their performance in each event\, and at the end of the season\, the male and female surfers with the most points are crowned the WSL World Champions.
URL:https://www.outdoorsocal.com/event/world-surf-league-championships/
LOCATION:Trestles Surf Break
CATEGORIES:Surfing
ATTACH;FMTTYPE=image/jpeg:https://www.outdoorsocal.com/wp-content/uploads/2024/08/trestles-wsl-championship.jpg
END:VEVENT
END:VCALENDAR