BEGIN:VCALENDAR
VERSION:2.0
PRODID:-//Outdoor SoCal - ECPv6.6.3//NONSGML v1.0//EN
CALSCALE:GREGORIAN
METHOD:PUBLISH
X-WR-CALNAME:Outdoor SoCal
X-ORIGINAL-URL:https://www.outdoorsocal.com
X-WR-CALDESC:Events for Outdoor SoCal
REFRESH-INTERVAL;VALUE=DURATION:PT1H
X-Robots-Tag:noindex
X-PUBLISHED-TTL:PT1H
BEGIN:VTIMEZONE
TZID:America/Los_Angeles
BEGIN:DAYLIGHT
TZOFFSETFROM:-0800
TZOFFSETTO:-0700
TZNAME:PDT
DTSTART:20250309T100000
END:DAYLIGHT
BEGIN:STANDARD
TZOFFSETFROM:-0700
TZOFFSETTO:-0800
TZNAME:PST
DTSTART:20251102T090000
END:STANDARD
END:VTIMEZONE
BEGIN:VEVENT
DTSTART;VALUE=DATE:20250403
DTEND;VALUE=DATE:20250407
DTSTAMP:20260423T044238
CREATED:20250408T034514Z
LAST-MODIFIED:20250408T035212Z
UID:1512436-1743638400-1743983999@www.outdoorsocal.com
SUMMARY:Van's Jacks Surfboards Pro Contest
DESCRIPTION:Surf City USA shifts into contest mode each spring when the Vans Jack’s Surfboards Pro lands on the south side of Huntington Beach Pier. Sanctioned as a Men’s and Women’s QS 4\,000 stop on the World Surf League’s North America Qualifying Series\, the event dangles 4\,000 valuable ranking points—often the first big haul of the season—at surfers looking to climb toward the Challenger Series and\, ultimately\, the Championship Tour. \nHuntington’s peaky beach‑break wedges and long-running lefts create a high‑performance canvas that consistently draws a mix of rising phenoms and seasoned tour vets. Over the years\, champions have ranged from future world‑title contenders like Caitlin Simmers to Championship Tour mainstays such as Nat Young\, Sawyer Lindblad\, Crosby Colapinto\, Keanu Asing\, Lucca Mesinas\, and Kirra Pinkerton—underscoring the contest’s reputation as a launchpad for the sport’s next big names. \nBeyond the action in the lineup\, the shoreline turns into a mini‑festival: live commentary from the pier\, sponsor activations and games\, board‑swap vibes at Jack’s pop‑ups\, and plenty of ice‑cold beer.
URL:https://www.outdoorsocal.com/event/vans-jacks-surfboards-pro-contest/
CATEGORIES:Surfing
ATTACH;FMTTYPE=image/jpeg:https://www.outdoorsocal.com/wp-content/uploads/2025/04/huntington-pier.jpg
END:VEVENT
END:VCALENDAR